BEGIN:VCALENDAR
VERSION:2.0
PRODID:-//Tocotronic//NONSGML Tocotronic//EN
METHOD:PUBLISH
BEGIN:VEVENT
UID:20260420T224230Z-538763996-www.tocotronic.de
URL:https://www.tocotronic.de/dates/tocotronic-dates-23052023-at-salzbur-28--647-.html
DTSTAMP:20260420T224230Z
DTSTART:20230523T180000Z
DTEND:20230523T180000Z
SUMMARY:TOCOTRONIC | Dates | 23.05.2023 (AT) Salzburg\, Rockhouse
DESCRIPTION:For tickets and more Tocotronic-dates check https://www.tocotronic.de/dates/
LOCATION:Rockhouse\, Salzburg\, Austria
END:VEVENT
END:VCALENDAR
