BEGIN:VCALENDAR
VERSION:2.0
PRODID:-//Tocotronic//NONSGML Tocotronic//EN
METHOD:PUBLISH
BEGIN:VEVENT
UID:20260423T192629Z-2074180993-www.tocotronic.de
URL:https://www.tocotronic.de/dates/tocotronic-dates-09042025-de-bremen--29--677-.html
DTSTAMP:20260423T192629Z
DTSTART:20250409T190000Z
DTEND:20250409T190000Z
SUMMARY:TOCOTRONIC | Dates | 09.04.2025 (DE) Bremen\, Schlachthof
DESCRIPTION:For tickets and more Tocotronic-dates check https://www.tocotronic.de/dates/
LOCATION:Schlachthof\, Bremen\, Germany
END:VEVENT
END:VCALENDAR
